BEGIN:VCALENDAR
VERSION:2.0
PRODID:-//Armed Forces Directory - ECPv6.15.15//NONSGML v1.0//EN
CALSCALE:GREGORIAN
METHOD:PUBLISH
X-ORIGINAL-URL:https://www.armedforcesdirectory.org
X-WR-CALDESC:Events for Armed Forces Directory
REFRESH-INTERVAL;VALUE=DURATION:PT1H
X-Robots-Tag:noindex
X-PUBLISHED-TTL:PT1H
BEGIN:VTIMEZONE
TZID:America/New_York
BEGIN:DAYLIGHT
TZOFFSETFROM:-0500
TZOFFSETTO:-0400
TZNAME:EDT
DTSTART:20250309T070000
END:DAYLIGHT
BEGIN:STANDARD
TZOFFSETFROM:-0400
TZOFFSETTO:-0500
TZNAME:EST
DTSTART:20251102T060000
END:STANDARD
BEGIN:DAYLIGHT
TZOFFSETFROM:-0500
TZOFFSETTO:-0400
TZNAME:EDT
DTSTART:20260308T070000
END:DAYLIGHT
BEGIN:STANDARD
TZOFFSETFROM:-0400
TZOFFSETTO:-0500
TZNAME:EST
DTSTART:20261101T060000
END:STANDARD
BEGIN:DAYLIGHT
TZOFFSETFROM:-0500
TZOFFSETTO:-0400
TZNAME:EDT
DTSTART:20270314T070000
END:DAYLIGHT
BEGIN:STANDARD
TZOFFSETFROM:-0400
TZOFFSETTO:-0500
TZNAME:EST
DTSTART:20271107T060000
END:STANDARD
END:VTIMEZONE
BEGIN:VEVENT
DTSTART;TZID=America/New_York:20260507T183000
DTEND;TZID=America/New_York:20260507T203000
DTSTAMP:20260421T043858
CREATED:20260420T183851Z
LAST-MODIFIED:20260420T183852Z
UID:10007367-1778178600-1778185800@www.armedforcesdirectory.org
SUMMARY:Blooms For Her: A Mother’s Day Floral Workshop
DESCRIPTION:February 14 2026\, 7 PM – 9 PMTop of the Bay30 Plum Point LoopAberdeen Proving Ground\, MD 21005 								\n				\n				\n				\n									Enjoy a romantic 4-course dinner with someone special. Menu: 1st Course: Seared Scallops with Garlic Aioli2nd Course: Arugula and Cherry Salad3rd Course: Choice of:Braised Short Rib with a Merlot ReductionCreole Chicken with a Cheddar Polenta4th Course: Cheesecake with Fresh Berries and Chocolate MousseAll meals include iced tea\, water\, and coffee. Cash Bar available with Champagne Special.Note: Vegan and dietary options available when booking your reservation. Pre-order your spot now! RegistrationTickets: $75 per couple (4-course meal) Reservations: Please call 410-278-5915\, Tuesday through Thursday 8 AM –  PM to make your reservations. Reservation cut off is February 11\, or until full.Reservations are non-refundable.
URL:https://www.armedforcesdirectory.org/event/blooms-for-her-a-mothers-day-floral-workshop/
LOCATION:Mary’s Land Farm\, 4979 Sheppard Lane\, Ellicot City\, MD\, 21042
CATEGORIES:Fort Meade
ATTACH;FMTTYPE=image/jpeg:https://www.armedforcesdirectory.org/wp-content/uploads/2026/04/Screenshot-2026-04-20-Blooms-for-Her.jpg
ORGANIZER;CN="Mary's Land Farm":MAILTO:info@mary.farm
END:VEVENT
BEGIN:VEVENT
DTSTART;TZID=America/New_York:20260508T080000
DTEND;TZID=America/New_York:20260508T170000
DTSTAMP:20260421T043858
CREATED:20260415T185717Z
LAST-MODIFIED:20260415T185718Z
UID:10007362-1778227200-1778259600@www.armedforcesdirectory.org
SUMMARY:Calpulli Mexican Dancer
DESCRIPTION:February 14 2026\, 7 PM – 9 PMTop of the Bay30 Plum Point LoopAberdeen Proving Ground\, MD 21005 								\n				\n				\n				\n									Enjoy a romantic 4-course dinner with someone special. Menu: 1st Course: Seared Scallops with Garlic Aioli2nd Course: Arugula and Cherry Salad3rd Course: Choice of:Braised Short Rib with a Merlot ReductionCreole Chicken with a Cheddar Polenta4th Course: Cheesecake with Fresh Berries and Chocolate MousseAll meals include iced tea\, water\, and coffee. Cash Bar available with Champagne Special.Note: Vegan and dietary options available when booking your reservation. Pre-order your spot now! RegistrationTickets: $75 per couple (4-course meal) Reservations: Please call 410-278-5915\, Tuesday through Thursday 8 AM –  PM to make your reservations. Reservation cut off is February 11\, or until full.Reservations are non-refundable.
URL:https://www.armedforcesdirectory.org/event/calpulli-mexican-dancer/
LOCATION:Star Centre\, 700 Congress Avenue\, Havre De Grace\, MD\, 21078
CATEGORIES:Aberdeen Proving Ground
ATTACH;FMTTYPE=image/jpeg:https://www.armedforcesdirectory.org/wp-content/uploads/2026/04/Screenshot-2026-04-15-Capulli-Mexican-Dancer.jpg
ORGANIZER;CN="The STAR Centre":MAILTO:bambij@havredegracemd.com
END:VEVENT
BEGIN:VEVENT
DTSTART;TZID=America/New_York:20260509T100000
DTEND;TZID=America/New_York:20260509T120000
DTSTAMP:20260421T043858
CREATED:20260420T183821Z
LAST-MODIFIED:20260420T183822Z
UID:10007366-1778320800-1778328000@www.armedforcesdirectory.org
SUMMARY:Mother's Day Out & Garden Tours
DESCRIPTION:February 14 2026\, 7 PM – 9 PMTop of the Bay30 Plum Point LoopAberdeen Proving Ground\, MD 21005 								\n				\n				\n				\n									Enjoy a romantic 4-course dinner with someone special. Menu: 1st Course: Seared Scallops with Garlic Aioli2nd Course: Arugula and Cherry Salad3rd Course: Choice of:Braised Short Rib with a Merlot ReductionCreole Chicken with a Cheddar Polenta4th Course: Cheesecake with Fresh Berries and Chocolate MousseAll meals include iced tea\, water\, and coffee. Cash Bar available with Champagne Special.Note: Vegan and dietary options available when booking your reservation. Pre-order your spot now! RegistrationTickets: $75 per couple (4-course meal) Reservations: Please call 410-278-5915\, Tuesday through Thursday 8 AM –  PM to make your reservations. Reservation cut off is February 11\, or until full.Reservations are non-refundable.
URL:https://www.armedforcesdirectory.org/event/mothers-day-out-garden-tours/
LOCATION:Howard County Conservancy\, 10520 Old Frederick Road\, Woodstock\, MD\, 21163\, United States
CATEGORIES:Fort Meade
ATTACH;FMTTYPE=image/jpeg:https://www.armedforcesdirectory.org/wp-content/uploads/2026/04/Screenshot-2026-04-20-Mothers-Day-Out.jpg
END:VEVENT
BEGIN:VEVENT
DTSTART;TZID=America/New_York:20260509T100000
DTEND;TZID=America/New_York:20260509T160000
DTSTAMP:20260421T043858
CREATED:20260417T191352Z
LAST-MODIFIED:20260417T191844Z
UID:10007365-1778320800-1778342400@www.armedforcesdirectory.org
SUMMARY:3rd Annual Havre de Grace Mother’s Day Market
DESCRIPTION:February 14 2026\, 7 PM – 9 PMTop of the Bay30 Plum Point LoopAberdeen Proving Ground\, MD 21005 								\n				\n				\n				\n									Enjoy a romantic 4-course dinner with someone special. Menu: 1st Course: Seared Scallops with Garlic Aioli2nd Course: Arugula and Cherry Salad3rd Course: Choice of:Braised Short Rib with a Merlot ReductionCreole Chicken with a Cheddar Polenta4th Course: Cheesecake with Fresh Berries and Chocolate MousseAll meals include iced tea\, water\, and coffee. Cash Bar available with Champagne Special.Note: Vegan and dietary options available when booking your reservation. Pre-order your spot now! RegistrationTickets: $75 per couple (4-course meal) Reservations: Please call 410-278-5915\, Tuesday through Thursday 8 AM –  PM to make your reservations. Reservation cut off is February 11\, or until full.Reservations are non-refundable.
URL:https://www.armedforcesdirectory.org/event/3rd-annual-havre-de-grace-mothers-day-market/
LOCATION:Downtown Havre de Grace\, 400 Franklin St\, Havre de Grace\, MD\, 21078\, United States
CATEGORIES:Aberdeen Proving Ground
ATTACH;FMTTYPE=image/jpeg:https://www.armedforcesdirectory.org/wp-content/uploads/2026/04/Screenshot-2026-04-17-Mothers-Day-Market.jpg
ORGANIZER;CN="City of Havre de Grace":MAILTO:laurio@havredegracemd.com
END:VEVENT
BEGIN:VEVENT
DTSTART;TZID=America/New_York:20260509T150000
DTEND;TZID=America/New_York:20260509T150000
DTSTAMP:20260421T043858
CREATED:20260420T184315Z
LAST-MODIFIED:20260420T184316Z
UID:10007373-1778338800-1778338800@www.armedforcesdirectory.org
SUMMARY:2026 Harford Choral Society Annual Spring Concert
DESCRIPTION:February 14 2026\, 7 PM – 9 PMTop of the Bay30 Plum Point LoopAberdeen Proving Ground\, MD 21005 								\n				\n				\n				\n									Enjoy a romantic 4-course dinner with someone special. Menu: 1st Course: Seared Scallops with Garlic Aioli2nd Course: Arugula and Cherry Salad3rd Course: Choice of:Braised Short Rib with a Merlot ReductionCreole Chicken with a Cheddar Polenta4th Course: Cheesecake with Fresh Berries and Chocolate MousseAll meals include iced tea\, water\, and coffee. Cash Bar available with Champagne Special.Note: Vegan and dietary options available when booking your reservation. Pre-order your spot now! RegistrationTickets: $75 per couple (4-course meal) Reservations: Please call 410-278-5915\, Tuesday through Thursday 8 AM –  PM to make your reservations. Reservation cut off is February 11\, or until full.Reservations are non-refundable.
URL:https://www.armedforcesdirectory.org/event/2026-harford-choral-society-annual-spring-concert/
LOCATION:Saint Matthew Lutheran Church\, 1200 Churchville Road\, Bel Air\, MD\, 21014\, United States
CATEGORIES:Aberdeen Proving Ground
ATTACH;FMTTYPE=image/jpeg:https://www.armedforcesdirectory.org/wp-content/uploads/2026/04/Screenshot-2026-04-20-spring-concert.jpg
ORGANIZER;CN="Harford Choral Society":MAILTO:info@harfordchoralsociety.org
END:VEVENT
BEGIN:VEVENT
DTSTART;TZID=America/New_York:20260510T100000
DTEND;TZID=America/New_York:20260510T160000
DTSTAMP:20260421T043858
CREATED:20260420T184005Z
LAST-MODIFIED:20260420T184007Z
UID:10007369-1778407200-1778428800@www.armedforcesdirectory.org
SUMMARY:Mother's Day Brunch at Turf Valley Resort
DESCRIPTION:February 14 2026\, 7 PM – 9 PMTop of the Bay30 Plum Point LoopAberdeen Proving Ground\, MD 21005 								\n				\n				\n				\n									Enjoy a romantic 4-course dinner with someone special. Menu: 1st Course: Seared Scallops with Garlic Aioli2nd Course: Arugula and Cherry Salad3rd Course: Choice of:Braised Short Rib with a Merlot ReductionCreole Chicken with a Cheddar Polenta4th Course: Cheesecake with Fresh Berries and Chocolate MousseAll meals include iced tea\, water\, and coffee. Cash Bar available with Champagne Special.Note: Vegan and dietary options available when booking your reservation. Pre-order your spot now! RegistrationTickets: $75 per couple (4-course meal) Reservations: Please call 410-278-5915\, Tuesday through Thursday 8 AM –  PM to make your reservations. Reservation cut off is February 11\, or until full.Reservations are non-refundable.
URL:https://www.armedforcesdirectory.org/event/mothers-day-brunch-at-turf-valley-resort/
LOCATION:Turf Valley Resort\, 2700 Turf Valley Road\, Ellicott City\, MD\, 21042\, United States
CATEGORIES:Fort Meade
ATTACH;FMTTYPE=image/jpeg:https://www.armedforcesdirectory.org/wp-content/uploads/2026/04/Screenshot-2026-04-20-Brunch.jpg
ORGANIZER;CN="Turf Valley Resort":MAILTO:visitus@turfvalley.com
END:VEVENT
BEGIN:VEVENT
DTSTART;TZID=America/New_York:20260510T110000
DTEND;TZID=America/New_York:20260510T150000
DTSTAMP:20260421T043858
CREATED:20260420T184204Z
LAST-MODIFIED:20260420T184206Z
UID:10007370-1778410800-1778425200@www.armedforcesdirectory.org
SUMMARY:Mother's Day Brunch
DESCRIPTION:February 14 2026\, 7 PM – 9 PMTop of the Bay30 Plum Point LoopAberdeen Proving Ground\, MD 21005 								\n				\n				\n				\n									Enjoy a romantic 4-course dinner with someone special. Menu: 1st Course: Seared Scallops with Garlic Aioli2nd Course: Arugula and Cherry Salad3rd Course: Choice of:Braised Short Rib with a Merlot ReductionCreole Chicken with a Cheddar Polenta4th Course: Cheesecake with Fresh Berries and Chocolate MousseAll meals include iced tea\, water\, and coffee. Cash Bar available with Champagne Special.Note: Vegan and dietary options available when booking your reservation. Pre-order your spot now! RegistrationTickets: $75 per couple (4-course meal) Reservations: Please call 410-278-5915\, Tuesday through Thursday 8 AM –  PM to make your reservations. Reservation cut off is February 11\, or until full.Reservations are non-refundable.
URL:https://www.armedforcesdirectory.org/event/mothers-day-brunch/
LOCATION:Captain’s Daughter\, 100 Westgate Circle\, Annapolis\, Maryland\, 21401\, United States
CATEGORIES:Fort Meade
ATTACH;FMTTYPE=image/jpeg:https://www.armedforcesdirectory.org/wp-content/uploads/2026/04/Screenshot-2026-04-20-Mothers-Day-Brunch.jpg
END:VEVENT
BEGIN:VEVENT
DTSTART;TZID=America/New_York:20260510T170000
DTEND;TZID=America/New_York:20260510T220000
DTSTAMP:20260421T043858
CREATED:20260420T184222Z
LAST-MODIFIED:20260420T184222Z
UID:10007371-1778432400-1778450400@www.armedforcesdirectory.org
SUMMARY:Mother's Day Dinner
DESCRIPTION:February 14 2026\, 7 PM – 9 PMTop of the Bay30 Plum Point LoopAberdeen Proving Ground\, MD 21005 								\n				\n				\n				\n									Enjoy a romantic 4-course dinner with someone special. Menu: 1st Course: Seared Scallops with Garlic Aioli2nd Course: Arugula and Cherry Salad3rd Course: Choice of:Braised Short Rib with a Merlot ReductionCreole Chicken with a Cheddar Polenta4th Course: Cheesecake with Fresh Berries and Chocolate MousseAll meals include iced tea\, water\, and coffee. Cash Bar available with Champagne Special.Note: Vegan and dietary options available when booking your reservation. Pre-order your spot now! RegistrationTickets: $75 per couple (4-course meal) Reservations: Please call 410-278-5915\, Tuesday through Thursday 8 AM –  PM to make your reservations. Reservation cut off is February 11\, or until full.Reservations are non-refundable.
URL:https://www.armedforcesdirectory.org/event/mothers-day-dinner/
LOCATION:Captain’s Daughter\, 100 Westgate Circle\, Annapolis\, Maryland\, 21401\, United States
CATEGORIES:Fort Meade
ATTACH;FMTTYPE=image/jpeg:https://www.armedforcesdirectory.org/wp-content/uploads/2026/04/Screenshot-2026-04-20-Mothers-Day-Dinner.jpg
END:VEVENT
BEGIN:VEVENT
DTSTART;TZID=America/New_York:20260516T100000
DTEND;TZID=America/New_York:20260517T170000
DTSTAMP:20260421T043858
CREATED:20260420T184306Z
LAST-MODIFIED:20260420T184307Z
UID:10007372-1778925600-1779037200@www.armedforcesdirectory.org
SUMMARY:20th Annual Secret Garden Tour
DESCRIPTION:February 14 2026\, 7 PM – 9 PMTop of the Bay30 Plum Point LoopAberdeen Proving Ground\, MD 21005 								\n				\n				\n				\n									Enjoy a romantic 4-course dinner with someone special. Menu: 1st Course: Seared Scallops with Garlic Aioli2nd Course: Arugula and Cherry Salad3rd Course: Choice of:Braised Short Rib with a Merlot ReductionCreole Chicken with a Cheddar Polenta4th Course: Cheesecake with Fresh Berries and Chocolate MousseAll meals include iced tea\, water\, and coffee. Cash Bar available with Champagne Special.Note: Vegan and dietary options available when booking your reservation. Pre-order your spot now! RegistrationTickets: $75 per couple (4-course meal) Reservations: Please call 410-278-5915\, Tuesday through Thursday 8 AM –  PM to make your reservations. Reservation cut off is February 11\, or until full.Reservations are non-refundable.
URL:https://www.armedforcesdirectory.org/event/20th-annual-secret-garden-tour/
LOCATION:Havre de Grace Maritime Museum\, 100 Lafayette St\, Havre de Grace\, MD\, 21078\, United States
CATEGORIES:Aberdeen Proving Ground
ATTACH;FMTTYPE=image/jpeg:https://www.armedforcesdirectory.org/wp-content/uploads/2026/04/Screenshot-2026-04-20-Secret-Garden-Tour.jpg
END:VEVENT
BEGIN:VEVENT
DTSTART;TZID=America/New_York:20260603T083000
DTEND;TZID=America/New_York:20260603T140000
DTSTAMP:20260421T043858
CREATED:20260311T214705Z
LAST-MODIFIED:20260311T214707Z
UID:10007329-1780475400-1780495200@www.armedforcesdirectory.org
SUMMARY:CMMC Summit 2026
DESCRIPTION:February 14 2026\, 7 PM – 9 PMTop of the Bay30 Plum Point LoopAberdeen Proving Ground\, MD 21005 								\n				\n				\n				\n									Enjoy a romantic 4-course dinner with someone special. Menu: 1st Course: Seared Scallops with Garlic Aioli2nd Course: Arugula and Cherry Salad3rd Course: Choice of:Braised Short Rib with a Merlot ReductionCreole Chicken with a Cheddar Polenta4th Course: Cheesecake with Fresh Berries and Chocolate MousseAll meals include iced tea\, water\, and coffee. Cash Bar available with Champagne Special.Note: Vegan and dietary options available when booking your reservation. Pre-order your spot now! RegistrationTickets: $75 per couple (4-course meal) Reservations: Please call 410-278-5915\, Tuesday through Thursday 8 AM –  PM to make your reservations. Reservation cut off is February 11\, or until full.Reservations are non-refundable.
URL:https://www.armedforcesdirectory.org/event/cmmc-summit-2026/
LOCATION:Technology Advancement Center\, 7000 Columbia Gateway Dr #150\, Columbia\, Maryland\, 21046\, United States
CATEGORIES:Aberdeen Proving Ground,Fort Meade
ATTACH;FMTTYPE=image/jpeg:https://www.armedforcesdirectory.org/wp-content/uploads/2026/03/Screenshot-2026-03-11-CMMC-Summit.jpg
ORGANIZER;CN="Cybersecurity Association":MAILTO:info@cyber-association.com
END:VEVENT
BEGIN:VEVENT
DTSTART;VALUE=DATE:20260624
DTEND;VALUE=DATE:20260702
DTSTAMP:20260421T043858
CREATED:20250716T180018Z
LAST-MODIFIED:20260302T155501Z
UID:10007031-1782298800-1782925200@www.armedforcesdirectory.org
SUMMARY:Sail250 Baltimore
DESCRIPTION:February 14 2026\, 7 PM – 9 PMTop of the Bay30 Plum Point LoopAberdeen Proving Ground\, MD 21005 								\n				\n				\n				\n									Enjoy a romantic 4-course dinner with someone special. Menu: 1st Course: Seared Scallops with Garlic Aioli2nd Course: Arugula and Cherry Salad3rd Course: Choice of:Braised Short Rib with a Merlot ReductionCreole Chicken with a Cheddar Polenta4th Course: Cheesecake with Fresh Berries and Chocolate MousseAll meals include iced tea\, water\, and coffee. Cash Bar available with Champagne Special.Note: Vegan and dietary options available when booking your reservation. Pre-order your spot now! RegistrationTickets: $75 per couple (4-course meal) Reservations: Please call 410-278-5915\, Tuesday through Thursday 8 AM –  PM to make your reservations. Reservation cut off is February 11\, or until full.Reservations are non-refundable.
URL:https://www.armedforcesdirectory.org/event/sail250-baltimore/
LOCATION:Baltimore\, Baltimore\, MD\, United States
CATEGORIES:Aberdeen Proving Ground,Fort Meade
ATTACH;FMTTYPE=image/jpeg:https://www.armedforcesdirectory.org/wp-content/uploads/2025/07/Screenshot-2025-06-05-sail250.jpg
ORGANIZER;CN="Sail250":MAILTO:dchoate@sail250.org
END:VEVENT
BEGIN:VEVENT
DTSTART;VALUE=DATE:20260626
DTEND;VALUE=DATE:20260629
DTSTAMP:20260421T043858
CREATED:20260113T200814Z
LAST-MODIFIED:20260113T200814Z
UID:10007274-1782432000-1782691199@www.armedforcesdirectory.org
SUMMARY:SAIL250 Festivals
DESCRIPTION:February 14 2026\, 7 PM – 9 PMTop of the Bay30 Plum Point LoopAberdeen Proving Ground\, MD 21005 								\n				\n				\n				\n									Enjoy a romantic 4-course dinner with someone special. Menu: 1st Course: Seared Scallops with Garlic Aioli2nd Course: Arugula and Cherry Salad3rd Course: Choice of:Braised Short Rib with a Merlot ReductionCreole Chicken with a Cheddar Polenta4th Course: Cheesecake with Fresh Berries and Chocolate MousseAll meals include iced tea\, water\, and coffee. Cash Bar available with Champagne Special.Note: Vegan and dietary options available when booking your reservation. Pre-order your spot now! RegistrationTickets: $75 per couple (4-course meal) Reservations: Please call 410-278-5915\, Tuesday through Thursday 8 AM –  PM to make your reservations. Reservation cut off is February 11\, or until full.Reservations are non-refundable.
URL:https://www.armedforcesdirectory.org/event/sail250-festivals/
LOCATION:Baltimore\, Baltimore\, MD\, United States
CATEGORIES:Aberdeen Proving Ground,Fort Meade
ATTACH;FMTTYPE=image/png:https://www.armedforcesdirectory.org/wp-content/uploads/2026/01/Screenshot-2026-01-13-250-Festivals.png
ORGANIZER;CN="Sail250":MAILTO:dchoate@sail250.org
END:VEVENT
BEGIN:VEVENT
DTSTART;VALUE=DATE:20260626
DTEND;VALUE=DATE:20260629
DTSTAMP:20260421T043858
CREATED:20260112T202940Z
LAST-MODIFIED:20260112T202940Z
UID:10007272-1782432000-1782691199@www.armedforcesdirectory.org
SUMMARY:SAIL250 Maryland Airshow and Flyovers
DESCRIPTION:February 14 2026\, 7 PM – 9 PMTop of the Bay30 Plum Point LoopAberdeen Proving Ground\, MD 21005 								\n				\n				\n				\n									Enjoy a romantic 4-course dinner with someone special. Menu: 1st Course: Seared Scallops with Garlic Aioli2nd Course: Arugula and Cherry Salad3rd Course: Choice of:Braised Short Rib with a Merlot ReductionCreole Chicken with a Cheddar Polenta4th Course: Cheesecake with Fresh Berries and Chocolate MousseAll meals include iced tea\, water\, and coffee. Cash Bar available with Champagne Special.Note: Vegan and dietary options available when booking your reservation. Pre-order your spot now! RegistrationTickets: $75 per couple (4-course meal) Reservations: Please call 410-278-5915\, Tuesday through Thursday 8 AM –  PM to make your reservations. Reservation cut off is February 11\, or until full.Reservations are non-refundable.
URL:https://www.armedforcesdirectory.org/event/sail250-maryland-airshow-and-flyovers/
LOCATION:Inner Harbor Baltimore\, Inner Harbor\, Baltimore\, MD\, United States
CATEGORIES:Aberdeen Proving Ground,Fort Meade
ATTACH;FMTTYPE=image/jpeg:https://www.armedforcesdirectory.org/wp-content/uploads/2026/01/IMG_9536-sail250.jpg
ORGANIZER;CN="Sail250":MAILTO:dchoate@sail250.org
END:VEVENT
END:VCALENDAR